BEGIN:VCALENDAR
VERSION:2.0
PRODID:-//ChamberMaster//Event Calendar 2.0//EN
METHOD:PUBLISH
X-PUBLISHED-TTL:P3D
REFRESH-INTERVAL:P3D
CALSCALE:GREGORIAN
BEGIN:VEVENT
DTSTART:20240328T160000Z
DTEND:20240328T180000Z
X-MICROSOFT-CDO-ALLDAYEVENT:FALSE
SUMMARY:Citizen Science Project Lunch & Learn
DESCRIPTION:This month's Citizen Scientist Project Lunch and Learn presentation will highlight Pelican Harbor Seabird Station's (PHSS) work in rescuing and rehabilitating Florida's native wildlife.\n\n\n\nJoin Hannah McDougall\, Director of Communications at Pelican Harbor Seabird Station\, as she leads the lunch and learn session\, discussing the vital work they are doing in and around our Island paradise. \n\n\n\nLearn how you can help preserve and protect our local wildlife.\n\n\n\nRSVP is required.
X-ALT-DESC;FMTTYPE=text/html:<br />\n<br />\nThis month&#39\;s Citizen Scientist Project Lunch and Learn presentation will highlight Pelican Harbor Seabird Station&#39\;s (PHSS) work in rescuing and rehabilitating Florida&#39\;s native wildlife.<br />\n<br />\nJoin Hannah McDougall\, Director of Communications at Pelican Harbor Seabird Station\, as she leads the lunch and learn session\, discussing the vital work they are doing in and around our Island paradise.&nbsp\;<br />\n<br />\nLearn how you can help preserve and protect our local wildlife.<br />\n<br />\nRSVP is required.
LOCATION:Key Biscayne Community Center Island Room
UID:e.330.22534
SEQUENCE:3
DTSTAMP:20260422T033347Z
URL:http://keybiscaynechamber.chambermaster.com/events/details/citizen-science-project-lunch-learn-22534
END:VEVENT

END:VCALENDAR
